BEGIN:VCALENDAR
VERSION:2.0
PRODID:-// - ECPv6.15.20//NONSGML v1.0//EN
CALSCALE:GREGORIAN
METHOD:PUBLISH
X-ORIGINAL-URL:https://inkwoodhealing.com
X-WR-CALDESC:Events for 
REFRESH-INTERVAL;VALUE=DURATION:PT1H
X-Robots-Tag:noindex
X-PUBLISHED-TTL:PT1H
BEGIN:VTIMEZONE
TZID:America/New_York
BEGIN:DAYLIGHT
TZOFFSETFROM:-0500
TZOFFSETTO:-0400
TZNAME:EDT
DTSTART:20250309T070000
END:DAYLIGHT
BEGIN:STANDARD
TZOFFSETFROM:-0400
TZOFFSETTO:-0500
TZNAME:EST
DTSTART:20251102T060000
END:STANDARD
BEGIN:DAYLIGHT
TZOFFSETFROM:-0500
TZOFFSETTO:-0400
TZNAME:EDT
DTSTART:20260308T070000
END:DAYLIGHT
BEGIN:STANDARD
TZOFFSETFROM:-0400
TZOFFSETTO:-0500
TZNAME:EST
DTSTART:20261101T060000
END:STANDARD
BEGIN:DAYLIGHT
TZOFFSETFROM:-0500
TZOFFSETTO:-0400
TZNAME:EDT
DTSTART:20270314T070000
END:DAYLIGHT
BEGIN:STANDARD
TZOFFSETFROM:-0400
TZOFFSETTO:-0500
TZNAME:EST
DTSTART:20271107T060000
END:STANDARD
END:VTIMEZONE
BEGIN:VEVENT
DTSTART;TZID=America/New_York:20260418T113000
DTEND;TZID=America/New_York:20260418T133000
DTSTAMP:20260423T153511
CREATED:20260401T231927Z
LAST-MODIFIED:20260401T232452Z
UID:4609-1776511800-1776519000@inkwoodhealing.com
SUMMARY:Shamanic Journey and Drumming Group
DESCRIPTION:Our monthly Shamanic Journey and Drumming group meets on the third Saturday of every month. This is a drop-in event\, and no experience with shamanism\, journeying\, or drumming is required – just a curious and open heart! \nShamanic journeying is a powerful practice that anyone can learn and use. Working in the spirit realm teaches us true freedom and self-empowerment. There\, we have access to other worlds. We connect with the energy that underlies the physical world and receive guidance from our spirit guides and ancestors. Moreover\, we gain the ability to heal ourselves at the deepest level. \nShamanic drumming is both a healing art and a catalyst for shamanic journeying. At our gatherings\, we will explore both ways of working with rhythm. Participants are encouraged to bring (or make!) a rhythm instrument for healing work\, but extras are available for those who don’t have one. \nLocation: The Unitarian Church of Marlboro and Hudson (UCMH)\, 80 Main St.\, Hudson\, MA\, upstairs in the Knight Room. Enter through the side (Church St.) door and come up the stairs.
URL:https://inkwoodhealing.com/event/shamanic-journey-and-drumming-group-10/
LOCATION:The Unitarian Church of Marlboro and Hudson\, 80 Main St.\, Hudson\, MA\, 01749\, United States
CATEGORIES:Shamanic Journey Group
ATTACH;FMTTYPE=image/webp:https://inkwoodhealing.com/wp-content/uploads/2025/12/Drum-head-header.webp
END:VEVENT
END:VCALENDAR