BEGIN:VCALENDAR
VERSION:2.0
PRODID:-// - ECPv6.15.20//NONSGML v1.0//EN
CALSCALE:GREGORIAN
METHOD:PUBLISH
X-ORIGINAL-URL:https://inkwoodhealing.com
X-WR-CALDESC:Events for 
REFRESH-INTERVAL;VALUE=DURATION:PT1H
X-Robots-Tag:noindex
X-PUBLISHED-TTL:PT1H
BEGIN:VTIMEZONE
TZID:America/New_York
BEGIN:DAYLIGHT
TZOFFSETFROM:-0500
TZOFFSETTO:-0400
TZNAME:EDT
DTSTART:20240310T070000
END:DAYLIGHT
BEGIN:STANDARD
TZOFFSETFROM:-0400
TZOFFSETTO:-0500
TZNAME:EST
DTSTART:20241103T060000
END:STANDARD
BEGIN:DAYLIGHT
TZOFFSETFROM:-0500
TZOFFSETTO:-0400
TZNAME:EDT
DTSTART:20250309T070000
END:DAYLIGHT
BEGIN:STANDARD
TZOFFSETFROM:-0400
TZOFFSETTO:-0500
TZNAME:EST
DTSTART:20251102T060000
END:STANDARD
BEGIN:DAYLIGHT
TZOFFSETFROM:-0500
TZOFFSETTO:-0400
TZNAME:EDT
DTSTART:20260308T070000
END:DAYLIGHT
BEGIN:STANDARD
TZOFFSETFROM:-0400
TZOFFSETTO:-0500
TZNAME:EST
DTSTART:20261101T060000
END:STANDARD
BEGIN:DAYLIGHT
TZOFFSETFROM:-0500
TZOFFSETTO:-0400
TZNAME:EDT
DTSTART:20270314T070000
END:DAYLIGHT
BEGIN:STANDARD
TZOFFSETFROM:-0400
TZOFFSETTO:-0500
TZNAME:EST
DTSTART:20271107T060000
END:STANDARD
END:VTIMEZONE
BEGIN:VEVENT
DTSTART;TZID=America/New_York:20260315T103000
DTEND;TZID=America/New_York:20260315T113000
DTSTAMP:20260423T231002
CREATED:20260220T185853Z
LAST-MODIFIED:20260307T173144Z
UID:4531-1773570600-1773574200@inkwoodhealing.com
SUMMARY:Spring Equinox/Ostara Circle
DESCRIPTION:Join us for a celebration of spring with a Pagan circle honoring Ostara\, the Spring Equinox! Spring is about rebirth and renewal\, and we’ll gather in beloved community to renew our spirits with the energies of the awakening Earth. \nAfter a long\, dark\, and difficult winter\, it is time to re-emerge and clear our energy for the work ahead. And to think about what we’re bringing into the light to grow and flourish after our hibernation. \nWe’ll harness the tides of change that surge at each equinox and spend time rebalancing our energy for the upcoming growing season. \nDoors open at 10 AM\, ceremony begins at 10:30 AM. A coffee and social gathering with snacks and drinks (provided) will follow the ceremony. \nLocation: Downstairs in Union Hall at the Unitarian Church of Marlboro and Hudson. \nThis is a free event\, and donations to the Unitarian Church of Marlboro and Hudson will be gratefully received.
URL:https://inkwoodhealing.com/event/spring-equinox-ostara-circle/
LOCATION:The Unitarian Church of Marlboro and Hudson\, 80 Main St.\, Hudson\, MA\, 01749\, United States
CATEGORIES:Pagan Circles
ATTACH;FMTTYPE=image/webp:https://inkwoodhealing.com/wp-content/uploads/2026/02/daiga-ellaby-YnNczu62rdk-unsplash-smaller-cropped.webp
END:VEVENT
BEGIN:VEVENT
DTSTART;TZID=America/New_York:20251101T190000
DTEND;TZID=America/New_York:20251101T210000
DTSTAMP:20260423T231002
CREATED:20251028T232657Z
LAST-MODIFIED:20251028T232657Z
UID:3620-1762023600-1762030800@inkwoodhealing.com
SUMMARY:Samhain Circle and Meditation
DESCRIPTION:Join Amanda Worcester and Cynthia Menard this Saturday evening for a Samhain Circle\, featuring a guided meditation that brings participants to the twilight space between the worlds to reunite with our beloved dead. Woven into a ritual to honor our ancestors and guides\, we will spend time together in deep reverence for those who came before us and guide us still. \nSocializing\, snacks\, and informal offerings to the spirits will follow the ritual. Items for an ancestor/beloved dead altar are welcome. Please bring a snack or beverage to share. \nSuggested donation – $5
URL:https://inkwoodhealing.com/event/samhain-circle-and-meditation/
LOCATION:The Unitarian Church of Marlboro and Hudson\, 80 Main St.\, Hudson\, MA\, 01749\, United States
CATEGORIES:Pagan Circles
END:VEVENT
END:VCALENDAR