BEGIN:VCALENDAR
VERSION:2.0
PRODID:-// - ECPv6.15.20//NONSGML v1.0//EN
CALSCALE:GREGORIAN
METHOD:PUBLISH
X-ORIGINAL-URL:https://inkwoodhealing.com
X-WR-CALDESC:Events for 
REFRESH-INTERVAL;VALUE=DURATION:PT1H
X-Robots-Tag:noindex
X-PUBLISHED-TTL:PT1H
BEGIN:VTIMEZONE
TZID:America/New_York
BEGIN:DAYLIGHT
TZOFFSETFROM:-0500
TZOFFSETTO:-0400
TZNAME:EDT
DTSTART:20230312T070000
END:DAYLIGHT
BEGIN:STANDARD
TZOFFSETFROM:-0400
TZOFFSETTO:-0500
TZNAME:EST
DTSTART:20231105T060000
END:STANDARD
BEGIN:DAYLIGHT
TZOFFSETFROM:-0500
TZOFFSETTO:-0400
TZNAME:EDT
DTSTART:20240310T070000
END:DAYLIGHT
BEGIN:STANDARD
TZOFFSETFROM:-0400
TZOFFSETTO:-0500
TZNAME:EST
DTSTART:20241103T060000
END:STANDARD
BEGIN:DAYLIGHT
TZOFFSETFROM:-0500
TZOFFSETTO:-0400
TZNAME:EDT
DTSTART:20250309T070000
END:DAYLIGHT
BEGIN:STANDARD
TZOFFSETFROM:-0400
TZOFFSETTO:-0500
TZNAME:EST
DTSTART:20251102T060000
END:STANDARD
END:VTIMEZONE
BEGIN:VEVENT
DTSTART;TZID=America/New_York:20241005T100000
DTEND;TZID=America/New_York:20241005T150000
DTSTAMP:20260425T064430
CREATED:20240812T235223Z
LAST-MODIFIED:20240812T235223Z
UID:2354-1728122400-1728140400@inkwoodhealing.com
SUMMARY:Reiki 1 Class
DESCRIPTION:Reiki classes are for those who wish to become Reiki-attuned and channel Reiki energy for healing. Reiki 1 is the first level of class and attunement\, and runs approximately 4 – 5 hours\, depending on class size. \nReiki 1 students will learn what Reiki is and its history\, how to channel Reiki\, the basic components of the energetic body\, how to treat self and others\, and Reiki practitioner self-care. After the attunements\, students will have time to practice Reiki on each other. \nThe class will be held at the healing center where my office is – A Healing Vibration in Westford\, MA. A kitchenette is available if students wish to bring lunch or snacks with them. Clothing that is comfortable to move around in is recommended. Some handouts will be provided\, but students are welcome to bring a notebook (digital or manual) if they would like to record notes from class. \nHow to Register:  Email me: cynthia @ inkwoodhealing.com (remove spaces). You can pay half or full fee to hold your space ($60 or $120). If opting to pay half\, the second half will be due by Sept. 6th. Payment can be made by Venmo (preferred)\, cash/check\, Paypal\, or credit/debit card. Let me know how you’d like to pay in your email.
URL:https://inkwoodhealing.com/event/reiki-1-class/
LOCATION:A Healing Vibration Wellness Center\, 69 Broadway St.\, Westford\, MA\, 01886
CATEGORIES:Reiki Classes
END:VEVENT
END:VCALENDAR