BEGIN:VCALENDAR
VERSION:2.0
PRODID:-// - ECPv6.15.20//NONSGML v1.0//EN
CALSCALE:GREGORIAN
METHOD:PUBLISH
X-ORIGINAL-URL:https://inkwoodhealing.com
X-WR-CALDESC:Events for 
REFRESH-INTERVAL;VALUE=DURATION:PT1H
X-Robots-Tag:noindex
X-PUBLISHED-TTL:PT1H
BEGIN:VTIMEZONE
TZID:America/New_York
BEGIN:DAYLIGHT
TZOFFSETFROM:-0500
TZOFFSETTO:-0400
TZNAME:EDT
DTSTART:20240310T070000
END:DAYLIGHT
BEGIN:STANDARD
TZOFFSETFROM:-0400
TZOFFSETTO:-0500
TZNAME:EST
DTSTART:20241103T060000
END:STANDARD
BEGIN:DAYLIGHT
TZOFFSETFROM:-0500
TZOFFSETTO:-0400
TZNAME:EDT
DTSTART:20250309T070000
END:DAYLIGHT
BEGIN:STANDARD
TZOFFSETFROM:-0400
TZOFFSETTO:-0500
TZNAME:EST
DTSTART:20251102T060000
END:STANDARD
BEGIN:DAYLIGHT
TZOFFSETFROM:-0500
TZOFFSETTO:-0400
TZNAME:EDT
DTSTART:20260308T070000
END:DAYLIGHT
BEGIN:STANDARD
TZOFFSETFROM:-0400
TZOFFSETTO:-0500
TZNAME:EST
DTSTART:20261101T060000
END:STANDARD
END:VTIMEZONE
BEGIN:VEVENT
DTSTART;TZID=America/New_York:20250510T124500
DTEND;TZID=America/New_York:20250510T163000
DTSTAMP:20260424T004533
CREATED:20250502T215948Z
LAST-MODIFIED:20250502T215948Z
UID:3230-1746881100-1746894600@inkwoodhealing.com
SUMMARY:SoulCollage - Unleashing Your Inner Godzilla!
DESCRIPTION:I am collaborating with Nadine Lucas\, LMHC\, of Compassion Based Healing\, to offer this unique workshop. Nadine is a trained SoulCollage® facilitator\, and says this about the process: \n“SoulCollage® is a deeply personal and intuitive form of art therapy developed by Seena B. Frost in the late 1980s\, designed to facilitate self-discovery and emotional exploration through creative collage-making. Participants create 5×8 inch cards by intuitively selecting and arranging images from magazines\, photographs\, and personal artwork that resonate on a profound emotional level\, representing different aspects of the self. \nThe process goes beyond simple image creation\, incorporating a unique journaling technique where participants write from the perspective of each card using the phrase “I am the one who…” This approach allows for deep dialogue with different parts of the self\, uncovering hidden insights\, emotions\, and internal narratives. Each card becomes a visual and textual representation of an internal aspect\, offering a tangible way to explore one’s inner landscape.” \nOn Saturday\, May 10th\, we will use this beautiful process to focus on our inner Godzilla. And it’s not what you may think! Come and be surprised at the origins of this movie phenomenon and how the people of Japan used Godzilla as a metaphor for speaking up in the face of oppression: A very creative way to use their voices. Come learn how to use YOUR creative voice and unleash your inner Godzilla to speak your truth! \nLocation: The Unitarian Church of Marlboro and Hudson (UCMH)\, 80 Main St.\, Hudson\, MA\, in Union Hall. Enter through the side door (Church St.) and go downstairs. \nPre-registraton is required at nadineelucas@gmail.com with “SoulCollage Godzilla” in the Subject Line. Please include your name\, method of payment\, phone number and town of residence.
URL:https://inkwoodhealing.com/event/soulcollage-unleashing-your-inner-godzilla/
LOCATION:The Unitarian Church of Marlboro and Hudson\, 80 Main St.\, Hudson\, MA\, 01749\, United States
CATEGORIES:SoulCollage
END:VEVENT
END:VCALENDAR