BEGIN:VCALENDAR
VERSION:2.0
PRODID:-// - ECPv6.15.20//NONSGML v1.0//EN
CALSCALE:GREGORIAN
METHOD:PUBLISH
X-ORIGINAL-URL:https://inkwoodhealing.com
X-WR-CALDESC:Events for 
REFRESH-INTERVAL;VALUE=DURATION:PT1H
X-Robots-Tag:noindex
X-PUBLISHED-TTL:PT1H
BEGIN:VTIMEZONE
TZID:America/New_York
BEGIN:DAYLIGHT
TZOFFSETFROM:-0500
TZOFFSETTO:-0400
TZNAME:EDT
DTSTART:20250309T070000
END:DAYLIGHT
BEGIN:STANDARD
TZOFFSETFROM:-0400
TZOFFSETTO:-0500
TZNAME:EST
DTSTART:20251102T060000
END:STANDARD
BEGIN:DAYLIGHT
TZOFFSETFROM:-0500
TZOFFSETTO:-0400
TZNAME:EDT
DTSTART:20260308T070000
END:DAYLIGHT
BEGIN:STANDARD
TZOFFSETFROM:-0400
TZOFFSETTO:-0500
TZNAME:EST
DTSTART:20261101T060000
END:STANDARD
BEGIN:DAYLIGHT
TZOFFSETFROM:-0500
TZOFFSETTO:-0400
TZNAME:EDT
DTSTART:20270314T070000
END:DAYLIGHT
BEGIN:STANDARD
TZOFFSETFROM:-0400
TZOFFSETTO:-0500
TZNAME:EST
DTSTART:20271107T060000
END:STANDARD
END:VTIMEZONE
BEGIN:VEVENT
DTSTART;TZID=America/New_York:20260117T113000
DTEND;TZID=America/New_York:20260117T133000
DTSTAMP:20260424T072653
CREATED:20251118T214127Z
LAST-MODIFIED:20260116T212626Z
UID:3683-1768649400-1768656600@inkwoodhealing.com
SUMMARY:Shamanic Journey and Drumming Group
DESCRIPTION:Please note that this event has moved online due to the snow forecast in MA. Contact me for the Zoom link.  \nOur monthly Shamanic Journey and Drumming group meets on the third Saturday of every month. This is a drop-in event\, and no experience with shamanism\, journeying\, or drumming is required – just a curious and open heart! \nShamanic journeying is a powerful practice that anyone can learn and use. Working in the spirit realm teaches us true freedom and self-empowerment. There\, we have access to other worlds. We connect with the energy that underlies the physical world and receive guidance from our spirit guides and ancestors. Moreover\, we gain the ability to heal ourselves at the deepest level. \nShamanic drumming is both a healing art and a catalyst for shamanic journeying. At our gatherings\, we will explore both ways of working with rhythm. Participants are encouraged to bring (or make!) a rhythm instrument for healing work\, but extras are available for those who don’t have one. \nLocation: The Unitarian Church of Marlboro and Hudson (UCMH)\, 80 Main St.\, Hudson\, MA\, upstairs in the Knight Room. Enter through the side (Church St.) door and come up the stairs.
URL:https://inkwoodhealing.com/event/shamanic-journey-and-drumming-group-7/
LOCATION:Remote by Zoom
CATEGORIES:Shamanic Journey Group
ATTACH;FMTTYPE=image/webp:https://inkwoodhealing.com/wp-content/uploads/2025/12/Drum-head-header.webp
END:VEVENT
BEGIN:VEVENT
DTSTART;TZID=America/New_York:20260118T103000
DTEND;TZID=America/New_York:20260118T113000
DTSTAMP:20260424T072653
CREATED:20251118T204017Z
LAST-MODIFIED:20260111T182548Z
UID:3677-1768732200-1768735800@inkwoodhealing.com
SUMMARY:No Moon Reindeer Shaman Ceremony
DESCRIPTION:On January 18\, 2026\, I will hold the second public No Moon Reindeer Shaman ceremony in modern history at the Unitarian Church of Marlboro and Hudson\, in Hudson\, MA. This healing ceremony brings us together in beloved community to offer healing to ourselves and our communities as we work to lift the energetic darkness of winter. \nTogether\, we will call in and dispel the darkness\, then drum up energy\, and release healing light and heat specially stored from the summer. Hand drums and percussion are welcome\, but not necessary. \nThis ceremony\, performed annually to heal the larger community\, was a critical one in my shamanic lineage and the first ceremony and healing technique I learned. I am honored to share it with all who wish to join me. \nDoors open at 10 AM\, ceremony begins at 10:30 AM. A coffee and social gathering with snacks and drinks (provided) will follow the ceremony. \nLocation: Downstairs in Union Hall at the Unitarian Church of Marlboro and Hudson. \nThis is a free event\, and donations to the Unitarian Church of Marlboro and Hudson will be gratefully received. \nWhat does ‘No Moon’ mean? This is the phrase I heard when I first experienced this ceremony in the spirit realm on a January new moon in 2023. It is the term my ancestors used to describe the new moon phase\, and when I heard it\, I better understood the significance of a moonless night during the long\, dark Arctic winter.
URL:https://inkwoodhealing.com/event/no-moon-reindeer-shaman-ceremony/
LOCATION:The Unitarian Church of Marlboro and Hudson\, 80 Main St.\, Hudson\, MA\, 01749\, United States
CATEGORIES:Reindeer Shaman Ceremonies
ATTACH;FMTTYPE=image/webp:https://inkwoodhealing.com/wp-content/uploads/2025/11/jordon-conner-VIcTzkzNZR8-unsplash-cropped-smaller2.webp
END:VEVENT
BEGIN:VEVENT
DTSTART;TZID=America/New_York:20260123T190000
DTEND;TZID=America/New_York:20260123T210000
DTSTAMP:20260424T072653
CREATED:20251003T135929Z
LAST-MODIFIED:20260112T130440Z
UID:3595-1769194800-1769202000@inkwoodhealing.com
SUMMARY:Playing With Tarot! An Intuitive Tarot Workshop
DESCRIPTION:Join me on the 4th Fridays in January\, March\, May\, July\, September\, and November for a tarot gathering focused on intuitive tarot reading skills. \nOur gatherings combine discussions on tarot topics\, reading introspectively for ourselves\, playing with our decks in unconventional ways\, and group readings (a favorite event\, producing some of our most interesting experiences). \nWhy are we playing instead of learning tarot? \nBecause playing is fun! Our gatherings focus on intuitive reading. Certain attitudes and perspectives arise when we use the word ‘learn’: right versus wrong\, the need to study and learn\, the need to prove our skills\, fears of testing\, etc. \nBut telling ourselves that we’re playing instead of learning puts us into a different mindset. Hopefully\, one that is more relaxed and ready for fun. And that makes it easier to access our intuition. Bring your favorite tarot deck and come see how fun tarot can be without the rules! \nIf you’re new(er) to tarot and don’t yet have a deck\, there are extra decks available to borrow. \nCost: $5/UCMH Members\, $10 Non-members \nRegistration: This is a drop-in event; pre-registration is not required.
URL:https://inkwoodhealing.com/event/playing-with-tarot-an-intuitive-tarot-workshop-2/
LOCATION:The Unitarian Church of Marlboro and Hudson\, 80 Main St.\, Hudson\, MA\, 01749\, United States
CATEGORIES:Tarot Workshops
ATTACH;FMTTYPE=image/webp:https://inkwoodhealing.com/wp-content/uploads/2025/10/BT-Pile-of-Cards-cropped-small.webp
END:VEVENT
BEGIN:VEVENT
DTSTART;TZID=America/New_York:20260203T190000
DTEND;TZID=America/New_York:20260203T210000
DTSTAMP:20260424T072653
CREATED:20260105T203125Z
LAST-MODIFIED:20260110T025920Z
UID:4311-1770145200-1770152400@inkwoodhealing.com
SUMMARY:Foundations of Shamanic Journeying: Exploring the Spirit Realm
DESCRIPTION:This four-week online class series focuses on helping those new to shamanic practices learn to journey. Journeying is the art of working in the spirit realm via a trance state. There are numerous methods for and philosophies on shamanic journeying\, and we will explore various practices and ideas in our weekly gatherings. No prior experience with shamanism is necessary!\n.\nWhy learn to shamanic journey? Journeying is a powerful practice that can aid anyone’s spiritual journey. Working in the spirit realm teaches us true freedom and self-empowerment. There\, we have access to other worlds. We connect with the energy that underlies the physical world and receive guidance from our spirit guides and ancestors. Moreover\, we gain the ability to heal ourselves at the deepest level.\n.\nMy personal experiences with journeying over the years have taught me that there’s no one right way to journey. I want to lift up alternatives to the usual Western shamanic approach to journeying\, while also exploring this well-used (and much-loved) method. If you’ve tried journeying and struggled to have an experience\, I can help you discover different methods to send you on your way!\n.\nClasses are 2 hours each and will hold time for check-ins\, information sharing and discussion\, journey practice(s)\, experience sharing\, and ‘real-world’ application of classwork.\n.\nMeetings are held every Tuesday evening in February (2/3\, 2/10\, 2/17\, & 2/24) from 7 – 9 PM (EST) on Zoom. Cost is $50 for the whole series. Pre-registration and payment are required to hold a spot. To register\, email: cynthia @inkwoodhealing.com. A Zoom link will be sent out once your information and payment are received.
URL:https://inkwoodhealing.com/event/foundations-of-shamanic-journeying/
LOCATION:Remote by Zoom
CATEGORIES:Shamanism Classes
ATTACH;FMTTYPE=image/jpeg:https://inkwoodhealing.com/wp-content/uploads/2022/11/Crystal-spiral-edz-norton-lVd5b63876g-unsplash-e1768013939850.jpg
END:VEVENT
BEGIN:VEVENT
DTSTART;TZID=America/New_York:20260221T113000
DTEND;TZID=America/New_York:20260221T133000
DTSTAMP:20260424T072653
CREATED:20251224T031312Z
LAST-MODIFIED:20260115T000727Z
UID:4225-1771673400-1771680600@inkwoodhealing.com
SUMMARY:Shamanic Journey and Drumming Group
DESCRIPTION:Our monthly Shamanic Journey and Drumming group meets on the third Saturday of every month. This is a drop-in event\, and no experience with shamanism\, journeying\, or drumming is required – just a curious and open heart! \nShamanic journeying is a powerful practice that anyone can learn and use. Working in the spirit realm teaches us true freedom and self-empowerment. There\, we have access to other worlds. We connect with the energy that underlies the physical world and receive guidance from our spirit guides and ancestors. Moreover\, we gain the ability to heal ourselves at the deepest level. \nShamanic drumming is both a healing art and a catalyst for shamanic journeying. At our gatherings\, we will explore both ways of working with rhythm. Participants are encouraged to bring (or make!) a rhythm instrument for healing work\, but extras are available for those who don’t have one. \nLocation: The Unitarian Church of Marlboro and Hudson (UCMH)\, 80 Main St.\, Hudson\, MA\, upstairs in the Knight Room. Enter through the side (Church St.) door and come up the stairs. \nCost: $5 for UCMH Members and shamanic students; $10 for non-Members/students
URL:https://inkwoodhealing.com/event/shamanic-journey-and-drumming-group-8/
LOCATION:The Unitarian Church of Marlboro and Hudson\, 80 Main St.\, Hudson\, MA\, 01749\, United States
ATTACH;FMTTYPE=image/webp:https://inkwoodhealing.com/wp-content/uploads/2025/12/Drum-head-header.webp
END:VEVENT
BEGIN:VEVENT
DTSTART;TZID=America/New_York:20260315T103000
DTEND;TZID=America/New_York:20260315T113000
DTSTAMP:20260424T072653
CREATED:20260220T185853Z
LAST-MODIFIED:20260307T173144Z
UID:4531-1773570600-1773574200@inkwoodhealing.com
SUMMARY:Spring Equinox/Ostara Circle
DESCRIPTION:Join us for a celebration of spring with a Pagan circle honoring Ostara\, the Spring Equinox! Spring is about rebirth and renewal\, and we’ll gather in beloved community to renew our spirits with the energies of the awakening Earth. \nAfter a long\, dark\, and difficult winter\, it is time to re-emerge and clear our energy for the work ahead. And to think about what we’re bringing into the light to grow and flourish after our hibernation. \nWe’ll harness the tides of change that surge at each equinox and spend time rebalancing our energy for the upcoming growing season. \nDoors open at 10 AM\, ceremony begins at 10:30 AM. A coffee and social gathering with snacks and drinks (provided) will follow the ceremony. \nLocation: Downstairs in Union Hall at the Unitarian Church of Marlboro and Hudson. \nThis is a free event\, and donations to the Unitarian Church of Marlboro and Hudson will be gratefully received.
URL:https://inkwoodhealing.com/event/spring-equinox-ostara-circle/
LOCATION:The Unitarian Church of Marlboro and Hudson\, 80 Main St.\, Hudson\, MA\, 01749\, United States
CATEGORIES:Pagan Circles
ATTACH;FMTTYPE=image/webp:https://inkwoodhealing.com/wp-content/uploads/2026/02/daiga-ellaby-YnNczu62rdk-unsplash-smaller-cropped.webp
END:VEVENT
BEGIN:VEVENT
DTSTART;TZID=America/New_York:20260321T113000
DTEND;TZID=America/New_York:20260321T133000
DTSTAMP:20260424T072653
CREATED:20260115T001042Z
LAST-MODIFIED:20260115T001042Z
UID:4455-1774092600-1774099800@inkwoodhealing.com
SUMMARY:Shamanic Journey and Drumming Group
DESCRIPTION:Our monthly Shamanic Journey and Drumming group meets on the third Saturday of every month. This is a drop-in event\, and no experience with shamanism\, journeying\, or drumming is required – just a curious and open heart! \nShamanic journeying is a powerful practice that anyone can learn and use. Working in the spirit realm teaches us true freedom and self-empowerment. There\, we have access to other worlds. We connect with the energy that underlies the physical world and receive guidance from our spirit guides and ancestors. Moreover\, we gain the ability to heal ourselves at the deepest level. \nShamanic drumming is both a healing art and a catalyst for shamanic journeying. At our gatherings\, we will explore both ways of working with rhythm. Participants are encouraged to bring (or make!) a rhythm instrument for healing work\, but extras are available for those who don’t have one. \nLocation: The Unitarian Church of Marlboro and Hudson (UCMH)\, 80 Main St.\, Hudson\, MA\, upstairs in the Knight Room. Enter through the side (Church St.) door and come up the stairs. \nCost: $5 for UCMH Members and shamanic students; $10 for non-Members/students
URL:https://inkwoodhealing.com/event/shamanic-journey-and-drumming-group-9/
LOCATION:The Unitarian Church of Marlboro and Hudson\, 80 Main St.\, Hudson\, MA\, 01749\, United States
CATEGORIES:Shamanic Journey Group
ATTACH;FMTTYPE=image/webp:https://inkwoodhealing.com/wp-content/uploads/2025/12/Drum-head-header.webp
END:VEVENT
BEGIN:VEVENT
DTSTART;TZID=America/New_York:20260327T190000
DTEND;TZID=America/New_York:20260327T210000
DTSTAMP:20260424T072653
CREATED:20260115T000430Z
LAST-MODIFIED:20260115T000608Z
UID:4452-1774638000-1774645200@inkwoodhealing.com
SUMMARY:Playing With Tarot! An Intuitive Tarot Workshop
DESCRIPTION:Join me on the 4th Fridays in January\, March\, May\, July\, September\, and November for a tarot gathering focused on intuitive tarot reading skills. \nOur gatherings combine discussions of tarot topics\, reading introspectively for ourselves\, playing with our decks in unconventional ways\, and group readings (a favorite event that produces some of our most interesting experiences). \nWhy are we playing instead of learning tarot? \nBecause playing is fun! Our gatherings focus on intuitive reading. Certain attitudes and perspectives arise when we use the word ‘learn’: right versus wrong\, the need to study and learn\, the need to prove our skills\, fears of testing\, etc. \nBut telling ourselves that we’re playing instead of learning puts us into a different mindset. Hopefully\, one that is more relaxed and ready for fun. And that makes it easier to access our intuition. Bring your favorite tarot deck and come see how fun tarot can be without the rules! \nIf you’re new(er) to tarot and don’t yet have a deck\, there are extra decks available to borrow. \nCost: $5/UCMH Members\, $10 Non-members \nRegistration: This is a drop-in event; pre-registration is not required.
URL:https://inkwoodhealing.com/event/playing-with-tarot-an-intuitive-tarot-workshop-3/
LOCATION:The Unitarian Church of Marlboro and Hudson\, 80 Main St.\, Hudson\, MA\, 01749\, United States
CATEGORIES:Tarot Workshops
ATTACH;FMTTYPE=image/webp:https://inkwoodhealing.com/wp-content/uploads/2025/10/BT-Pile-of-Cards-cropped-small.webp
END:VEVENT
BEGIN:VEVENT
DTSTART;TZID=America/New_York:20260418T113000
DTEND;TZID=America/New_York:20260418T133000
DTSTAMP:20260424T072653
CREATED:20260401T231927Z
LAST-MODIFIED:20260401T232452Z
UID:4609-1776511800-1776519000@inkwoodhealing.com
SUMMARY:Shamanic Journey and Drumming Group
DESCRIPTION:Our monthly Shamanic Journey and Drumming group meets on the third Saturday of every month. This is a drop-in event\, and no experience with shamanism\, journeying\, or drumming is required – just a curious and open heart! \nShamanic journeying is a powerful practice that anyone can learn and use. Working in the spirit realm teaches us true freedom and self-empowerment. There\, we have access to other worlds. We connect with the energy that underlies the physical world and receive guidance from our spirit guides and ancestors. Moreover\, we gain the ability to heal ourselves at the deepest level. \nShamanic drumming is both a healing art and a catalyst for shamanic journeying. At our gatherings\, we will explore both ways of working with rhythm. Participants are encouraged to bring (or make!) a rhythm instrument for healing work\, but extras are available for those who don’t have one. \nLocation: The Unitarian Church of Marlboro and Hudson (UCMH)\, 80 Main St.\, Hudson\, MA\, upstairs in the Knight Room. Enter through the side (Church St.) door and come up the stairs.
URL:https://inkwoodhealing.com/event/shamanic-journey-and-drumming-group-10/
LOCATION:The Unitarian Church of Marlboro and Hudson\, 80 Main St.\, Hudson\, MA\, 01749\, United States
CATEGORIES:Shamanic Journey Group
ATTACH;FMTTYPE=image/webp:https://inkwoodhealing.com/wp-content/uploads/2025/12/Drum-head-header.webp
END:VEVENT
BEGIN:VEVENT
DTSTART;TZID=America/New_York:20260423T190000
DTEND;TZID=America/New_York:20260423T210000
DTSTAMP:20260424T072653
CREATED:20260402T201918Z
LAST-MODIFIED:20260402T202752Z
UID:4616-1776970800-1776978000@inkwoodhealing.com
SUMMARY:Foundations of Shamanic Journeying: Exploring the Spirit Realm
DESCRIPTION:This 8-hour\, four-week online class series focuses on helping those new to shamanic practices learn to journey. Journeying is the art of working in the spirit realm via a trance state. There are numerous methods for and philosophies on shamanic journeying\, and we will explore various practices and ideas in our weekly gatherings. No prior experience with shamanism is necessary! \nWhy learn to shamanic journey? Journeying is a powerful practice that can aid anyone’s spiritual journey. Working in the spirit realm teaches us true freedom and self-empowerment. There\, we have access to other worlds. We connect with the energy that underlies the physical world and receive guidance from our spirit guides and ancestors. Moreover\, we gain the ability to heal ourselves at the deepest level. \nMy personal experiences with journeying over the years have taught me that there’s no one right way to journey. I want to lift up alternatives to the usual Western shamanic approach to journeying\, while also exploring this well-used (and much-loved) method. If you’ve tried journeying and struggled to have an experience\, I can help you discover different methods to send you on your way! \nClasses are 2 hours each and will hold time for check-ins\, information sharing and discussion\, journey practice(s)\, experience sharing\, and ‘real-world’ application of classwork. \nMeetings are held Thursday evenings starting April 23rd and running through May 14th\, from 7 – 9 PM (EST) on Zoom. Cost is $85 for the full series. Registration and payment are required to hold a spot. To register\, email: cynthia@inkwoodhealing.com. A Zoom link will be sent out once the information and payment are received.
URL:https://inkwoodhealing.com/event/foundations-of-shamanic-journeying-2/
LOCATION:Remote by Zoom
CATEGORIES:Shamanism Classes
ATTACH;FMTTYPE=image/jpeg:https://inkwoodhealing.com/wp-content/uploads/2022/11/Crystal-spiral-edz-norton-lVd5b63876g-unsplash-1.jpg
END:VEVENT
BEGIN:VEVENT
DTSTART;TZID=America/New_York:20260516T113000
DTEND;TZID=America/New_York:20260516T133000
DTSTAMP:20260424T072653
CREATED:20260401T232309Z
LAST-MODIFIED:20260401T232309Z
UID:4611-1778931000-1778938200@inkwoodhealing.com
SUMMARY:Shamanic Journey and Drumming Group
DESCRIPTION:Our monthly Shamanic Journey and Drumming group meets on the third Saturday of every month. This is a drop-in event\, and no experience with shamanism\, journeying\, or drumming is required – just a curious and open heart! \nShamanic journeying is a powerful practice that anyone can learn and use. Working in the spirit realm teaches us true freedom and self-empowerment. There\, we have access to other worlds. We connect with the energy that underlies the physical world and receive guidance from our spirit guides and ancestors. Moreover\, we gain the ability to heal ourselves at the deepest level. \nShamanic drumming is both a healing art and a catalyst for shamanic journeying. At our gatherings\, we will explore both ways of working with rhythm. Participants are encouraged to bring (or make!) a rhythm instrument for healing work\, but extras are available for those who don’t have one. \nLocation: The Unitarian Church of Marlboro and Hudson (UCMH)\, 80 Main St.\, Hudson\, MA\, upstairs in the Knight Room. Enter through the side (Church St.) door and come up the stairs.
URL:https://inkwoodhealing.com/event/shamanic-journey-and-drumming-group-11/
LOCATION:The Unitarian Church of Marlboro and Hudson\, 80 Main St.\, Hudson\, MA\, 01749\, United States
CATEGORIES:Shamanic Journey Group
ATTACH;FMTTYPE=image/webp:https://inkwoodhealing.com/wp-content/uploads/2025/12/Drum-head-header.webp
END:VEVENT
BEGIN:VEVENT
DTSTART;TZID=America/New_York:20260521T183000
DTEND;TZID=America/New_York:20260521T200000
DTSTAMP:20260424T072653
CREATED:20260415T205540Z
LAST-MODIFIED:20260417T034945Z
UID:4630-1779388200-1779393600@inkwoodhealing.com
SUMMARY:Unlocking the Norse Runes - An Experiential Journey Through the Elder Futhark
DESCRIPTION:Join me by Zoom for a weekly in-depth journey with the Norse Runes exploring the energy of each stave and aett (group or family) in the Elder Futhark.  In this initial series of 8 weekly classes\, we will work with one rune per week\, covering the first aett in the Futhark. The second and third aettir will be covered in the following two 8-class series. \nEach 90-minute class will explore one of the runes in depth through music\, discussion\, meditation/shamanic journey work\, and magical practice. Each series will also explore the energy of the related aett\, and how that family or group of runes fits and works together. \nNo experience with runes or Norse mythology is required\, but a commitment to the work is requested. Registration is for the first 8-week class series only\, exploring the first aett in the Elder Futhark. Dates for the second aett class series are forthcoming. \nClasses will be recorded for participants’ private use for catch-up on a missed session or for review. \nCost: $120 for 8 weekly 90-minute classes \nDates: Thursdays May 21st – July 9th\, 6:30 – 8 PM \nRegistration and payment are required to hold a spot. To register\, email: cynthia@inkwoodhealing.com. The class Zoom link will be sent out once payment and registration are received. \n  \nHeader photo by Carla Santiago on Unsplash
URL:https://inkwoodhealing.com/event/unlocking-the-norse-runes-first-aett/
LOCATION:Remote by Zoom
CATEGORIES:Shamanism Classes
ATTACH;FMTTYPE=image/webp:https://inkwoodhealing.com/wp-content/uploads/2026/04/carla-santiago-oyz9XO4VY6k-unsplash-cropped-smaller2.webp
END:VEVENT
BEGIN:VEVENT
DTSTART;TZID=America/New_York:20260522T190000
DTEND;TZID=America/New_York:20260522T210000
DTSTAMP:20260424T072653
CREATED:20260401T233045Z
LAST-MODIFIED:20260401T233113Z
UID:4613-1779476400-1779483600@inkwoodhealing.com
SUMMARY:Playing with Tarot! An Intuitive Tarot Workshop
DESCRIPTION:Join me on the 4th Fridays in January\, March\, May\, July\, September\, and November for a tarot gathering focused on intuitive tarot reading skills. \nOur gatherings combine discussions of tarot topics\, reading introspectively\, exploring spreads\, playing with our decks in unconventional ways\, and group readings (a favorite event that produces some of our most interesting experiences). \nWhy are we playing instead of learning tarot? \nBecause playing is fun! Our gatherings focus on intuitive reading. Certain attitudes and perspectives arise when we use the word ‘learn’: right versus wrong\, the need to study and learn\, the need to prove our skills\, fears of testing\, etc. \nBut telling ourselves that we’re playing instead of learning puts us into a different mindset. Hopefully\, one that is more relaxed and ready for fun. And that makes it easier to access our intuition. Bring your favorite tarot deck and come see how fun tarot can be without the rules! \nIf you’re new(er) to tarot and don’t yet have a deck\, there are extra decks available to borrow.
URL:https://inkwoodhealing.com/event/playing-with-tarot-4-2/
LOCATION:The Unitarian Church of Marlboro and Hudson\, 80 Main St.\, Hudson\, MA\, 01749\, United States
CATEGORIES:Tarot Workshops
ATTACH;FMTTYPE=image/webp:https://inkwoodhealing.com/wp-content/uploads/2025/10/BT-Pile-of-Cards-cropped-small.webp
END:VEVENT
BEGIN:VEVENT
DTSTART;TZID=America/New_York:20260718T113000
DTEND;TZID=America/New_York:20260718T133000
DTSTAMP:20260424T072653
CREATED:20260421T200409Z
LAST-MODIFIED:20260421T200409Z
UID:4656-1784374200-1784381400@inkwoodhealing.com
SUMMARY:Shamanic Journey and Drumming Group
DESCRIPTION:The Shamanic Journey and Drumming group is moving to a new location! Starting on July 18th\, we will meet at the Unitarian Universalist Congregation in the Assabet Valley\, located in Stow\, MA – just 5 miles away from our Hudson location. Our new home in Stow has beautiful outdoor space\, and we’ll have the opportunity to embrace nature immersion when the weather is comfortable for meeting outside! \nThis group meets on the third Saturday of every month. This is a drop-in event\, and no experience with shamanism\, journeying\, or drumming is required – just a curious and open heart! \nShamanic journeying is a powerful practice that anyone can learn and use. Working in the spirit realm teaches us true freedom and self-empowerment. There\, we have access to other worlds. We connect with the energy that underlies the physical world and receive guidance from our spirit guides and ancestors. Moreover\, we gain the ability to heal ourselves at the deepest level. \nShamanic drumming is both a healing art and a catalyst for shamanic journeying. At our gatherings\, we will explore both ways of working with rhythm. Participants are encouraged to bring (or make!) a rhythm instrument for healing work\, but extras are available for those who don’t have one. \nLocation: Unitarian Universalist Congregation in the Assabet Valley\, 353 Great Road (Rt. 117)\, Stow\, MA. Enter through the Main Entrance off the parking lot\, then go left to the Community Room.
URL:https://inkwoodhealing.com/event/shamanic-journey-and-drumming-group-12/
LOCATION:Unitarian Universalist Congregation in the Assabet Valley\, 353 Great Rd.\, Stow\, MA\, 01775\, United States
CATEGORIES:Shamanic Journey Group
ATTACH;FMTTYPE=image/webp:https://inkwoodhealing.com/wp-content/uploads/2025/12/Drum-head-header.webp
END:VEVENT
END:VCALENDAR