BEGIN:VCALENDAR
VERSION:2.0
PRODID:-// - ECPv6.15.20//NONSGML v1.0//EN
CALSCALE:GREGORIAN
METHOD:PUBLISH
X-ORIGINAL-URL:https://inkwoodhealing.com
X-WR-CALDESC:Events for 
REFRESH-INTERVAL;VALUE=DURATION:PT1H
X-Robots-Tag:noindex
X-PUBLISHED-TTL:PT1H
BEGIN:VTIMEZONE
TZID:America/New_York
BEGIN:DAYLIGHT
TZOFFSETFROM:-0500
TZOFFSETTO:-0400
TZNAME:EDT
DTSTART:20230312T070000
END:DAYLIGHT
BEGIN:STANDARD
TZOFFSETFROM:-0400
TZOFFSETTO:-0500
TZNAME:EST
DTSTART:20231105T060000
END:STANDARD
BEGIN:DAYLIGHT
TZOFFSETFROM:-0500
TZOFFSETTO:-0400
TZNAME:EDT
DTSTART:20240310T070000
END:DAYLIGHT
BEGIN:STANDARD
TZOFFSETFROM:-0400
TZOFFSETTO:-0500
TZNAME:EST
DTSTART:20241103T060000
END:STANDARD
BEGIN:DAYLIGHT
TZOFFSETFROM:-0500
TZOFFSETTO:-0400
TZNAME:EDT
DTSTART:20250309T070000
END:DAYLIGHT
BEGIN:STANDARD
TZOFFSETFROM:-0400
TZOFFSETTO:-0500
TZNAME:EST
DTSTART:20251102T060000
END:STANDARD
BEGIN:DAYLIGHT
TZOFFSETFROM:-0500
TZOFFSETTO:-0400
TZNAME:EDT
DTSTART:20260308T070000
END:DAYLIGHT
BEGIN:STANDARD
TZOFFSETFROM:-0400
TZOFFSETTO:-0500
TZNAME:EST
DTSTART:20261101T060000
END:STANDARD
END:VTIMEZONE
BEGIN:VEVENT
DTSTART;TZID=America/New_York:20250411T190000
DTEND;TZID=America/New_York:20250411T210000
DTSTAMP:20260424T100932
CREATED:20250313T132105Z
LAST-MODIFIED:20250313T132529Z
UID:3124-1744398000-1744405200@inkwoodhealing.com
SUMMARY:Reiki 2 Class and Attunement
DESCRIPTION:This is the second online class meeting for my Reiki 2 class which begins April 4th. \nReiki 2 classes are for anyone who has their Reiki 1 attunement and would like to progress to Reiki 2 and learn how to send distance Reiki healing to others. \nIn Reiki 2\, you will learn how to work with the Reiki symbols\, the components of the energetic body\, how to practice distance Reiki\, connect with your spirit guides\, and more. Anyone who is considering becoming a professional Reiki practitioner should become Reiki 2 attuned. \nReiki 2 is also the next step on your spiritual journey. Each Reiki attunement is an initiation into a higher vibrational way of working and living. Many practitioners report that their Reiki 2 attunement was the most powerful of the three. \nReiki 2 certification will be held in 3 – 4 classes. The first 2 classes are on Zoom on Fridays April 4 and 11 from 7 – 9 PM. There is an option for a 3rd online meeting for students who want more class time. The final class is in-person for the attuement in Hudson\, MA at the Unitarian Church of Marlboro and Hudson\, 80 Main St.\, Hudson\, MA. \nTwo dates are available for the final class and attunement: Saturday April 26th (afternoon) and Friday May 2nd (evening). \nThe cost for the full class series is $250. You must have taken a Reiki 1 class to take Reiki 2. Email cynthia @ inkwoodhealing.com to register or learn more.
URL:https://inkwoodhealing.com/event/reiki-2-class-and-attunement-2/
LOCATION:Remote by Zoom
CATEGORIES:Reiki Classes
END:VEVENT
BEGIN:VEVENT
DTSTART;TZID=America/New_York:20250404T190000
DTEND;TZID=America/New_York:20250404T210000
DTSTAMP:20260424T100932
CREATED:20250313T131640Z
LAST-MODIFIED:20250313T132046Z
UID:3121-1743793200-1743800400@inkwoodhealing.com
SUMMARY:Reiki 2 Class and Attunement
DESCRIPTION:Reiki 2 classes are for anyone who has their Reiki 1 attunement and would like to progress to Reiki 2 and learn how to send distance Reiki healing to others. \nIn Reiki 2\, you will learn how to work with the Reiki symbols\, the components of the energetic body\, how to practice distance Reiki\, connect with your spirit guides\, and more. Anyone who is considering becoming a professional Reiki practitioner should become Reiki 2 attuned. \nReiki 2 is also the next step on your spiritual journey. Each Reiki attunement is an initiation into a higher vibrational way of working and living. Many practitioners report that their Reiki 2 attunement was the most powerful of the three. \nReiki 2 certification will be held in 3 – 4 classes. The first 2 classes are on Zoom on Fridays April 4 and 11 from 7 – 9 PM. There is an option for a 3rd online meeting for students who want more class time. The final class is in-person for the attuement in Hudson\, MA at the Unitarian Church of Marlboro and Hudson\, 80 Main St.\, Hudson\, MA. \nTwo dates are available for the final class and attunement: Saturday April 26th (afternoon) and Friday May 2nd (evening). \nThe cost for the full class series and attunement is $250. You must have taken a Reiki 1 class to take Reiki 2. Email cynthia @ inkwoodhealing.com to register or learn more.
URL:https://inkwoodhealing.com/event/reiki-2-class-and-attunement/
LOCATION:Remote by Zoom
CATEGORIES:Reiki Classes
END:VEVENT
BEGIN:VEVENT
DTSTART;TZID=America/New_York:20250329T140000
DTEND;TZID=America/New_York:20250329T160000
DTSTAMP:20260424T100932
CREATED:20250207T154145Z
LAST-MODIFIED:20250221T011200Z
UID:2849-1743256800-1743264000@inkwoodhealing.com
SUMMARY:Shamanic Journey and Drumming Group
DESCRIPTION:I am offering a monthly gathering focused on shamanic journeying and drumming\, beginning March 28th. No experience with shamanism\, journeying\, or drumming is necessary – just a curious and open heart! \nShamanic journeying is a powerful practice that anyone can learn and use. Working in the spirit realm teaches us true freedom and self-empowerment. There\, we have access to other worlds. We connect with the energy that underlies the physical world. We also receive guidance from our spirit guides and ancestors. Moreover\, we gain the ability to heal ourselves at the deepest level. As Sandra Ingerman says\, journeying gives us access to “information and energies that can help awaken us and restore us to wholeness.” \nWe will most often meet at the Unitarian Church of Marlboro and Hudson\, located in Hudson\, MA (80 Main St.)\, on the third Saturday of the month from 2 to 4 PM (except our first meeting on March 29). During the summer\, we’ll gather outdoors\, when possible\, in various locations. \nAs we begin\, we’ll focus on learning journey techniques. We will meet our spirit guides and create a sacred garden from which to work. From there\, we will explore group journeying\, drumming for journeying and healing\, divinatory and self-healing journeys\, and much more. On the summer solstice\, we will gather at a fire circle in Lunenburg for a journey ceremony. \nThis is an open group\, and anyone can join any gathering. The program cost is $5 for UCMH Members and $10 for non-members. Join my mailing list for program reminders and updates so you don’t miss a session!
URL:https://inkwoodhealing.com/event/shamanic-journey-and-drumming-group/
LOCATION:The Unitarian Church of Marlboro and Hudson\, 80 Main St.\, Hudson\, MA\, 01749\, United States
CATEGORIES:Shamanic Journey Group
END:VEVENT
BEGIN:VEVENT
DTSTART;TZID=America/New_York:20250328T190000
DTEND;TZID=America/New_York:20250328T210000
DTSTAMP:20260424T100932
CREATED:20250207T154831Z
LAST-MODIFIED:20250221T005228Z
UID:2852-1743188400-1743195600@inkwoodhealing.com
SUMMARY:Playing With Tarot
DESCRIPTION:Join us in Hudson\, MA on the 4th Friday of every other month as we ‘play’ with our tarot decks\, ask tarot questions\, and nerd out over tarot details and trivia. \nThese gatherings are not focused on card-by-card teaching of ‘how tarot works’. Rather\, we play with our decks in fun and intuitive ways that build our unique understanding of the cards. There is no wrong way to play with your tarot deck! \nIn March we will continue our deep dive into the Major Arcana to see what mysteries and lessons it holds. We will also read for each other\, and explore a few new layouts. \nCost: $5 for UCMH Members\, $10 for non-Members \nHow to Register: email me at cynthia @ inkwoodhealing.com
URL:https://inkwoodhealing.com/event/playing-with-tarot-2/
LOCATION:The Unitarian Church of Marlboro and Hudson\, 80 Main St.\, Hudson\, MA\, 01749\, United States
CATEGORIES:Tarot Workshops
END:VEVENT
BEGIN:VEVENT
DTSTART;TZID=America/New_York:20250202T103000
DTEND;TZID=America/New_York:20250202T113000
DTSTAMP:20260424T100932
CREATED:20241111T175948Z
LAST-MODIFIED:20241111T182747Z
UID:2719-1738492200-1738495800@inkwoodhealing.com
SUMMARY:Reindeer No Moon Healing Ceremony
DESCRIPTION:Join me on Imbolg\, Feb. 2nd\, 2025\, for the first public Reindeer Healing Ceremony in many millennia. Three and a half years ago\, a shamanic ancestor came to me and helped me revive the extinct tradition of Reindeer Shamanism. On Feb. 2nd I’m offering a public healing ceremony\, and introducing Reindeer Shamanism to the public for the first time in thousands of years. \nAt this ceremony\, we will gather to heal ourselves and our communities. The winter No Moon is the darkest time of the year\, and when it is most important to drive away the dark and bring in healing light and warmth. Together as one big community\, we will shift the energy of our larger community(ies) from fear to love. \nPercussion instruments for a drum circle are welcomed. This ceremony is recommended for teens and adults. Childcare for younger children will be provided. Coffee and snacks will be offered following the ceremony. \nThis ceremony is free and open to the public. Donations gratefully received.
URL:https://inkwoodhealing.com/event/reindeer-no-moon-healing-ceremony/
LOCATION:The Unitarian Church of Marlboro and Hudson\, 80 Main St.\, Hudson\, MA\, 01749\, United States
CATEGORIES:Reindeer Shaman Ceremonies
END:VEVENT
BEGIN:VEVENT
DTSTART;TZID=America/New_York:20250124T190000
DTEND;TZID=America/New_York:20250124T210000
DTSTAMP:20260424T100932
CREATED:20241116T155753Z
LAST-MODIFIED:20241116T155853Z
UID:2751-1737745200-1737752400@inkwoodhealing.com
SUMMARY:Playing and Healing With Tarot Online Gathering
DESCRIPTION:Our gathering in January will be online through Zoom. More details will be coming soon. \nRSVP to: Cynthia @ inkwoodhealing.com  Zoom link will be sent out by email once your confirmation is received.
URL:https://inkwoodhealing.com/event/playing-and-healing-with-tarot-online/
LOCATION:Zoom
END:VEVENT
BEGIN:VEVENT
DTSTART;TZID=America/New_York:20241115T190000
DTEND;TZID=America/New_York:20241115T203000
DTSTAMP:20260424T100932
CREATED:20241031T185703Z
LAST-MODIFIED:20241031T185703Z
UID:2593-1731697200-1731702600@inkwoodhealing.com
SUMMARY:Playing With Tarot
DESCRIPTION:Join us for an every-other-month gathering in Hudson\, MA where we ‘play’ with our tarot decks\, ask tarot questions\, and nerd out over tarot details and trivia. \n\nThese gatherings are not concerned with a card-by-card teaching of ‘how tarot works’. Rather\, we play with our decks in fun and intuitive ways that build our unique understanding of the cards. \n\nIn our November gathering will explore and play with the court cards\, and figure out why they’re such a challenge. We’ll practice reading for each other with a few new spreads\, and play an I-Spy game with our decks. I hope you can join us! \n\nCost: $5 for UCMH Members\, $10 for non-Members \n\nHow to Register: email me at cynthia @ inkwoodhealing.com
URL:https://inkwoodhealing.com/event/playing-with-tarot/
LOCATION:The Unitarian Church of Marlboro and Hudson\, 80 Main St.\, Hudson\, MA\, 01749\, United States
CATEGORIES:Tarot Workshops
END:VEVENT
BEGIN:VEVENT
DTSTART;TZID=America/New_York:20241005T100000
DTEND;TZID=America/New_York:20241005T150000
DTSTAMP:20260424T100932
CREATED:20240812T235223Z
LAST-MODIFIED:20240812T235223Z
UID:2354-1728122400-1728140400@inkwoodhealing.com
SUMMARY:Reiki 1 Class
DESCRIPTION:Reiki classes are for those who wish to become Reiki-attuned and channel Reiki energy for healing. Reiki 1 is the first level of class and attunement\, and runs approximately 4 – 5 hours\, depending on class size. \nReiki 1 students will learn what Reiki is and its history\, how to channel Reiki\, the basic components of the energetic body\, how to treat self and others\, and Reiki practitioner self-care. After the attunements\, students will have time to practice Reiki on each other. \nThe class will be held at the healing center where my office is – A Healing Vibration in Westford\, MA. A kitchenette is available if students wish to bring lunch or snacks with them. Clothing that is comfortable to move around in is recommended. Some handouts will be provided\, but students are welcome to bring a notebook (digital or manual) if they would like to record notes from class. \nHow to Register:  Email me: cynthia @ inkwoodhealing.com (remove spaces). You can pay half or full fee to hold your space ($60 or $120). If opting to pay half\, the second half will be due by Sept. 6th. Payment can be made by Venmo (preferred)\, cash/check\, Paypal\, or credit/debit card. Let me know how you’d like to pay in your email.
URL:https://inkwoodhealing.com/event/reiki-1-class/
LOCATION:A Healing Vibration Wellness Center\, 69 Broadway St.\, Westford\, MA\, 01886
CATEGORIES:Reiki Classes
END:VEVENT
BEGIN:VEVENT
DTSTART;TZID=America/New_York:20240927T190000
DTEND;TZID=America/New_York:20240927T210000
DTSTAMP:20260424T100932
CREATED:20240903T190336Z
LAST-MODIFIED:20240903T190336Z
UID:2400-1727463600-1727470800@inkwoodhealing.com
SUMMARY:Playing with Tarot\, Regular Tarot Gatherings
DESCRIPTION:Join us for an every-other-month gathering in Hudson\, MA where we ‘play’ with our tarot decks\, ask tarot questions\, and nerd out over tarot details and trivia. \n \nThese gatherings are not concerned with a card-by-card teaching of ‘how tarot works’. Rather\, we play with our decks in fun and intuitive ways that build our unique understanding of the cards. \n \nEach gathering will explore new spreads\, play with ways to deepen our intuitive reading skills\, and learn to read for and with each other. No tarot experience is necessary – come play! If you’re new to tarot and don’t have a deck\, a few decks will be available to work with. \n\n\n \nCost: $5 for UCMH Members\, $10 for non-Members \n \nHow to Register: email me at cynthia @ inkwoodhealing.com
URL:https://inkwoodhealing.com/event/playing-with-tarot-regular-tarot-gatherings/
LOCATION:The Unitarian Church of Marlboro and Hudson\, 80 Main St.\, Hudson\, MA\, 01749\, United States
CATEGORIES:Tarot Workshops
END:VEVENT
BEGIN:VEVENT
DTSTART;TZID=America/New_York:20240921T100000
DTEND;TZID=America/New_York:20240921T150000
DTSTAMP:20260424T100932
CREATED:20240804T200451Z
LAST-MODIFIED:20240812T234837Z
UID:2236-1726912800-1726930800@inkwoodhealing.com
SUMMARY:Reiki 1 Class
DESCRIPTION:Reiki classes are for those who wish to become Reiki-attuned and channel Reiki energy for healing. Reiki 1 is the first level of class and attunement\, and runs approximately 4 – 5 hours\, depending on class size. \nReiki 1 students will learn what Reiki is and its history\, how to channel Reiki\, the basic components of the energetic body\, how to treat self and others\, and Reiki practitioner self-care. After the attunements\, students will have time to practice Reiki on each other. \nThe class will be held at the healing center where my office is – A Healing Vibration in Westford\, MA. A kitchenette is available if students wish to bring lunch or snacks with them. Clothing that is comfortable to move around in is recommended. Some handouts will be provided\, but students are welcome to bring a notebook (digital or manual) if they would like to record notes from class. \nHow to Register:  Email me: cynthia @ inkwoodhealing.com (remove spaces). You can pay half or full fee to hold your space ($60 or $120). If opting to pay half\, the second half will be due by Sept. 6th. Payment can be made by Venmo (preferred)\, cash/check\, Paypal\, or credit/debit card. Let me know how you’d like to pay in your email.
URL:https://inkwoodhealing.com/event/reiki-1-class-westford-ma/
LOCATION:A Healing Vibration Wellness Center\, 69 Broadway St.\, Westford\, MA\, 01886
CATEGORIES:Reiki Classes
END:VEVENT
BEGIN:VEVENT
DTSTART;TZID=America/New_York:20240712T190000
DTEND;TZID=America/New_York:20240712T203000
DTSTAMP:20260424T100932
CREATED:20240611T170815Z
LAST-MODIFIED:20240611T172413Z
UID:2186-1720810800-1720816200@inkwoodhealing.com
SUMMARY:Playing With Tarot Part 2
DESCRIPTION:As requested\, Playing With Tarot returns with a part 2! You do not have to have attended the first workshop to attend this one – all are welcome regardless of experience. \nLike the first class\, this will not be a card-by-card teaching of ‘how tarot works’ but an opportunity to build your own unique understanding of your deck. We will continue our journey in intuitive tarot reading with games\, quiet study\, and conversation.  We’ll explore working with and without tarot spreads\, and learn how to make our own! \nBring any tarot deck(s) – oracle decks are ok – and a journal or other tool for reflective work. New participants will receive a copy of the Inkwood Tarot Guide to use for reference. If you’re new to tarot and don’t have a deck\, a few will be available to work with. \nCost: $5 for UCMH members\, $10 for non-members. RSVP required: cynthia @ inkwoodhealing.com\, or use the contact link in the menu.
URL:https://inkwoodhealing.com/event/playing-with-tarot-part-2/
LOCATION:The Unitarian Church of Marlboro and Hudson\, 80 Main St.\, Hudson\, MA\, 01749\, United States
CATEGORIES:Tarot Workshops
ATTACH;FMTTYPE=image/jpeg:https://inkwoodhealing.com/wp-content/uploads/2024/06/pileofdecks-cropped-2.jpg
ORGANIZER;CN="Cynthia Menard":MAILTO:cynthia@inkwoodhealing.com
END:VEVENT
END:VCALENDAR