BEGIN:VCALENDAR
VERSION:2.0
PRODID:-// - ECPv6.15.20//NONSGML v1.0//EN
CALSCALE:GREGORIAN
METHOD:PUBLISH
X-ORIGINAL-URL:https://inkwoodhealing.com
X-WR-CALDESC:Events for 
REFRESH-INTERVAL;VALUE=DURATION:PT1H
X-Robots-Tag:noindex
X-PUBLISHED-TTL:PT1H
BEGIN:VTIMEZONE
TZID:America/New_York
BEGIN:DAYLIGHT
TZOFFSETFROM:-0500
TZOFFSETTO:-0400
TZNAME:EDT
DTSTART:20240310T070000
END:DAYLIGHT
BEGIN:STANDARD
TZOFFSETFROM:-0400
TZOFFSETTO:-0500
TZNAME:EST
DTSTART:20241103T060000
END:STANDARD
BEGIN:DAYLIGHT
TZOFFSETFROM:-0500
TZOFFSETTO:-0400
TZNAME:EDT
DTSTART:20250309T070000
END:DAYLIGHT
BEGIN:STANDARD
TZOFFSETFROM:-0400
TZOFFSETTO:-0500
TZNAME:EST
DTSTART:20251102T060000
END:STANDARD
BEGIN:DAYLIGHT
TZOFFSETFROM:-0500
TZOFFSETTO:-0400
TZNAME:EDT
DTSTART:20260308T070000
END:DAYLIGHT
BEGIN:STANDARD
TZOFFSETFROM:-0400
TZOFFSETTO:-0500
TZNAME:EST
DTSTART:20261101T060000
END:STANDARD
END:VTIMEZONE
BEGIN:VEVENT
DTSTART;TZID=America/New_York:20250404T190000
DTEND;TZID=America/New_York:20250404T210000
DTSTAMP:20260424T132321
CREATED:20250313T131640Z
LAST-MODIFIED:20250313T132046Z
UID:3121-1743793200-1743800400@inkwoodhealing.com
SUMMARY:Reiki 2 Class and Attunement
DESCRIPTION:Reiki 2 classes are for anyone who has their Reiki 1 attunement and would like to progress to Reiki 2 and learn how to send distance Reiki healing to others. \nIn Reiki 2\, you will learn how to work with the Reiki symbols\, the components of the energetic body\, how to practice distance Reiki\, connect with your spirit guides\, and more. Anyone who is considering becoming a professional Reiki practitioner should become Reiki 2 attuned. \nReiki 2 is also the next step on your spiritual journey. Each Reiki attunement is an initiation into a higher vibrational way of working and living. Many practitioners report that their Reiki 2 attunement was the most powerful of the three. \nReiki 2 certification will be held in 3 – 4 classes. The first 2 classes are on Zoom on Fridays April 4 and 11 from 7 – 9 PM. There is an option for a 3rd online meeting for students who want more class time. The final class is in-person for the attuement in Hudson\, MA at the Unitarian Church of Marlboro and Hudson\, 80 Main St.\, Hudson\, MA. \nTwo dates are available for the final class and attunement: Saturday April 26th (afternoon) and Friday May 2nd (evening). \nThe cost for the full class series and attunement is $250. You must have taken a Reiki 1 class to take Reiki 2. Email cynthia @ inkwoodhealing.com to register or learn more.
URL:https://inkwoodhealing.com/event/reiki-2-class-and-attunement/
LOCATION:Remote by Zoom
CATEGORIES:Reiki Classes
END:VEVENT
BEGIN:VEVENT
DTSTART;TZID=America/New_York:20250411T190000
DTEND;TZID=America/New_York:20250411T210000
DTSTAMP:20260424T132321
CREATED:20250313T132105Z
LAST-MODIFIED:20250313T132529Z
UID:3124-1744398000-1744405200@inkwoodhealing.com
SUMMARY:Reiki 2 Class and Attunement
DESCRIPTION:This is the second online class meeting for my Reiki 2 class which begins April 4th. \nReiki 2 classes are for anyone who has their Reiki 1 attunement and would like to progress to Reiki 2 and learn how to send distance Reiki healing to others. \nIn Reiki 2\, you will learn how to work with the Reiki symbols\, the components of the energetic body\, how to practice distance Reiki\, connect with your spirit guides\, and more. Anyone who is considering becoming a professional Reiki practitioner should become Reiki 2 attuned. \nReiki 2 is also the next step on your spiritual journey. Each Reiki attunement is an initiation into a higher vibrational way of working and living. Many practitioners report that their Reiki 2 attunement was the most powerful of the three. \nReiki 2 certification will be held in 3 – 4 classes. The first 2 classes are on Zoom on Fridays April 4 and 11 from 7 – 9 PM. There is an option for a 3rd online meeting for students who want more class time. The final class is in-person for the attuement in Hudson\, MA at the Unitarian Church of Marlboro and Hudson\, 80 Main St.\, Hudson\, MA. \nTwo dates are available for the final class and attunement: Saturday April 26th (afternoon) and Friday May 2nd (evening). \nThe cost for the full class series is $250. You must have taken a Reiki 1 class to take Reiki 2. Email cynthia @ inkwoodhealing.com to register or learn more.
URL:https://inkwoodhealing.com/event/reiki-2-class-and-attunement-2/
LOCATION:Remote by Zoom
CATEGORIES:Reiki Classes
END:VEVENT
BEGIN:VEVENT
DTSTART;TZID=America/New_York:20250419T140000
DTEND;TZID=America/New_York:20250419T160000
DTSTAMP:20260424T132321
CREATED:20250221T010751Z
LAST-MODIFIED:20250221T011229Z
UID:2921-1745071200-1745078400@inkwoodhealing.com
SUMMARY:Shamanic Journey and Drumming  Group
DESCRIPTION:I am offering a monthly gathering focused on shamanic journeying and drumming on the third Saturday of the month. No experience with shamanism\, journeying\, or drumming is necessary – just a curious and open heart! \nShamanic journeying is a powerful practice that anyone can learn and use. Working in the spirit realm teaches us true freedom and self-empowerment. There\, we have access to other worlds. We connect with the energy that underlies the physical world. We also receive guidance from our spirit guides and ancestors. Moreover\, we gain the ability to heal ourselves at the deepest level. As Sandra Ingerman says\, journeying gives us access to “information and energies that can help awaken us and restore us to wholeness.” \nWe will most often meet at the Unitarian Church of Marlboro and Hudson\, located in Hudson\, MA (80 Main St.)\, on the third Saturday of the month from 2 to 4 PM. During the summer\, we’ll gather outdoors\, when possible\, in various locations. \nAs we begin\, we’ll focus on learning journey techniques. We will meet our spirit guides and create a sacred garden from which to work. From there\, we will explore group journeying\, drumming for journeying and healing\, divinatory and self-healing journeys\, and much more. On the summer solstice\, we will gather at a fire circle in Lunenburg for a journey ceremony. \nThis is an open group\, and anyone can join any gathering. The program cost is $5 for UCMH Members and $10 for non-members. Join my mailing list for program reminders and updates so you don’t miss a session!
URL:https://inkwoodhealing.com/event/shamanic-journey-and-drumming-group-2/
LOCATION:The Unitarian Church of Marlboro and Hudson\, 80 Main St.\, Hudson\, MA\, 01749\, United States
CATEGORIES:Shamanic Journey Group
END:VEVENT
BEGIN:VEVENT
DTSTART;TZID=America/New_York:20250426T000000
DTEND;TZID=America/New_York:20250426T235959
DTSTAMP:20260424T132321
CREATED:20250313T132432Z
LAST-MODIFIED:20250313T140428Z
UID:3127-1745625600-1745711999@inkwoodhealing.com
SUMMARY:Reiki 2 Class and Attunement
DESCRIPTION:This is the third meeting for my Reiki 2 class which begins April 4th. \nReiki 2 classes are for anyone who has their Reiki 1 attunement and would like to progress to Reiki 2 and learn how to send distance Reiki healing to others. \nIn Reiki 2\, you will learn how to work with the Reiki symbols\, the components of the energetic body\, how to practice distance Reiki\, connect with your spirit guides\, and more. Anyone who is considering becoming a professional Reiki practitioner should become Reiki 2 attuned. \nReiki 2 is also the next step on your spiritual journey. Each Reiki attunement is an initiation into a higher vibrational way of working and living. Many practitioners report that their Reiki 2 attunement was the most powerful of the three. \nReiki 2 certification will be held in 3 – 4 classes. The first 2 classes are on Zoom on Fridays April 4 and 11 from 7 – 9 PM. There is an option for a 3rd online meeting for students who want more class time. The final class is in-person for the attuement in Hudson\, MA at the Unitarian Church of Marlboro and Hudson\, 80 Main St.\, Hudson\, MA. \nTwo dates are available for the final class and attunement: Saturday April 26th (afternoon) and Friday May 2nd (evening). \nThe cost for the full class series is $250. You must have taken a Reiki 1 class to take Reiki 2. Email cynthia @ inkwoodhealing.com to register or learn more.
URL:https://inkwoodhealing.com/event/reiki-2-class-and-attunement-3/
LOCATION:The Unitarian Church of Marlboro and Hudson\, 80 Main St.\, Hudson\, MA\, 01749\, United States
CATEGORIES:Reiki Classes
END:VEVENT
END:VCALENDAR