BEGIN:VCALENDAR
VERSION:2.0
PRODID:-// - ECPv6.15.20//NONSGML v1.0//EN
CALSCALE:GREGORIAN
METHOD:PUBLISH
X-ORIGINAL-URL:https://inkwoodhealing.com
X-WR-CALDESC:Events for 
REFRESH-INTERVAL;VALUE=DURATION:PT1H
X-Robots-Tag:noindex
X-PUBLISHED-TTL:PT1H
BEGIN:VTIMEZONE
TZID:America/New_York
BEGIN:DAYLIGHT
TZOFFSETFROM:-0500
TZOFFSETTO:-0400
TZNAME:EDT
DTSTART:20240310T070000
END:DAYLIGHT
BEGIN:STANDARD
TZOFFSETFROM:-0400
TZOFFSETTO:-0500
TZNAME:EST
DTSTART:20241103T060000
END:STANDARD
BEGIN:DAYLIGHT
TZOFFSETFROM:-0500
TZOFFSETTO:-0400
TZNAME:EDT
DTSTART:20250309T070000
END:DAYLIGHT
BEGIN:STANDARD
TZOFFSETFROM:-0400
TZOFFSETTO:-0500
TZNAME:EST
DTSTART:20251102T060000
END:STANDARD
BEGIN:DAYLIGHT
TZOFFSETFROM:-0500
TZOFFSETTO:-0400
TZNAME:EDT
DTSTART:20260308T070000
END:DAYLIGHT
BEGIN:STANDARD
TZOFFSETFROM:-0400
TZOFFSETTO:-0500
TZNAME:EST
DTSTART:20261101T060000
END:STANDARD
END:VTIMEZONE
BEGIN:VEVENT
DTSTART;TZID=America/New_York:20250710T180000
DTEND;TZID=America/New_York:20250710T213000
DTSTAMP:20260424T081142
CREATED:20250625T192903Z
LAST-MODIFIED:20250625T192903Z
UID:3488-1752170400-1752183000@inkwoodhealing.com
SUMMARY:Reiki 1 Group Class
DESCRIPTION:Join me and Amanda Worcester of Wandering Light Reiki for a group Reiki 1 class at UCMH in Hudson\, MA! The class will run 3 – 3.5 hours\, and includes instruction\, attunement\, and practice. \nReiki 1 is for anyone interested in becoming Reiki attuned for the first time and learning to channel Reiki for healing. Some choose to use Reiki just for self-healing and spiritual development\, while others learn in order to help others heal. No matter whether one or both of these paths call to you\, I strongly recommend a Reiki attunement for anyone on a spiritual path. \nOur class will cover the history of modern Reiki\, the basics of the energetic body\, energetic cleansing and protection\, hand positions\, and more. The first of the three Reiki degrees is also the most fun! It celebrates the vibrational rise that all students experience as they become first-time Reiki practitioners. \nNo experience is necessary\, and all are welcome. Class size is limited to 12 students. \nRegistration: Pre-registration is required. Email me at cynthia @ inkwoodhealing.com to register.
URL:https://inkwoodhealing.com/event/reiki-1-group-class/
LOCATION:The Unitarian Church of Marlboro and Hudson\, 80 Main St.\, Hudson\, MA\, 01749\, United States
CATEGORIES:Reiki Classes
END:VEVENT
BEGIN:VEVENT
DTSTART;TZID=America/New_York:20250719T140000
DTEND;TZID=America/New_York:20250719T160000
DTSTAMP:20260424T081142
CREATED:20250614T193931Z
LAST-MODIFIED:20250614T193931Z
UID:3459-1752933600-1752940800@inkwoodhealing.com
SUMMARY:Shamanic Journey and Drumming Group
DESCRIPTION:Our monthly Shamanic Journey and Drumming group meets on the third Saturday of every month. No experience with shamanism\, journeying\, or drumming is required – just a curious and open heart! \nShamanic journeying is a powerful practice that anyone can learn and use. Working in the spirit realm teaches us true freedom and self-empowerment. There\, we have access to other worlds. We connect with the energy that underlies the physical world. We also receive guidance from our spirit guides and ancestors. Moreover\, we gain the ability to heal ourselves at the deepest level. As Sandra Ingerman says\, journeying gives us access to “information and energies that can help awaken us and restore us to wholeness.” \nShamanic drumming is both a healing art and a catalyst for shamanic journeying. At our gatherings\, we will explore both ways of working with rhythm. Participants are encouraged to bring a drum and/or rattle if they have one. Extra rhythm instruments will be available for those without. \nThe July meeting will be held at a private labyrinth in Berlin\, MA. Contact me for the address\, or join my mailing list for full updates.
URL:https://inkwoodhealing.com/event/shamanic-journey-and-drumming-group-3/
LOCATION:MA
CATEGORIES:Shamanic Journey Group
END:VEVENT
BEGIN:VEVENT
DTSTART;TZID=America/New_York:20250725T190000
DTEND;TZID=America/New_York:20250725T210000
DTSTAMP:20260424T081142
CREATED:20250625T193352Z
LAST-MODIFIED:20250625T193352Z
UID:3490-1753470000-1753477200@inkwoodhealing.com
SUMMARY:Playing With Tarot!
DESCRIPTION:Join me on the 4th Fridays in January\, March\, May\, July\, September\, and November for a tarot gathering focused on intuitive tarot reading skills. \nWhy are we playing instead of learning tarot? \nBecause playing is fun! Our gatherings focus on intuitive reading. Certain attitudes and perspectives arise when we use the word ‘learn’: right versus wrong ways of doing things\, the need to work hard to study and learn\, the need to prove our skills\, fears of testing\, etc. \nBut telling ourselves that we’re playing instead of learning puts us into a different mindset. Hopefully\, one that is more relaxed and ready for fun. And that makes it easier to access our intuition. Join us and see how fun tarot can be without the rules! \nCost: $5/UCMH Members\, $10 Non-members \nHow to Register: Email me at Cynthia @ inkwoodhealing.com so I can ensure there are enough resources available.
URL:https://inkwoodhealing.com/event/playing-with-tarot-4/
LOCATION:The Unitarian Church of Marlboro and Hudson\, 80 Main St.\, Hudson\, MA\, 01749\, United States
END:VEVENT
END:VCALENDAR