BEGIN:VCALENDAR
VERSION:2.0
PRODID:-// - ECPv6.15.20//NONSGML v1.0//EN
CALSCALE:GREGORIAN
METHOD:PUBLISH
X-ORIGINAL-URL:https://inkwoodhealing.com
X-WR-CALDESC:Events for 
REFRESH-INTERVAL;VALUE=DURATION:PT1H
X-Robots-Tag:noindex
X-PUBLISHED-TTL:PT1H
BEGIN:VTIMEZONE
TZID:America/New_York
BEGIN:DAYLIGHT
TZOFFSETFROM:-0500
TZOFFSETTO:-0400
TZNAME:EDT
DTSTART:20240310T070000
END:DAYLIGHT
BEGIN:STANDARD
TZOFFSETFROM:-0400
TZOFFSETTO:-0500
TZNAME:EST
DTSTART:20241103T060000
END:STANDARD
BEGIN:DAYLIGHT
TZOFFSETFROM:-0500
TZOFFSETTO:-0400
TZNAME:EDT
DTSTART:20250309T070000
END:DAYLIGHT
BEGIN:STANDARD
TZOFFSETFROM:-0400
TZOFFSETTO:-0500
TZNAME:EST
DTSTART:20251102T060000
END:STANDARD
BEGIN:DAYLIGHT
TZOFFSETFROM:-0500
TZOFFSETTO:-0400
TZNAME:EDT
DTSTART:20260308T070000
END:DAYLIGHT
BEGIN:STANDARD
TZOFFSETFROM:-0400
TZOFFSETTO:-0500
TZNAME:EST
DTSTART:20261101T060000
END:STANDARD
END:VTIMEZONE
BEGIN:VEVENT
DTSTART;TZID=America/New_York:20250920T140000
DTEND;TZID=America/New_York:20250920T160000
DTSTAMP:20260424T080253
CREATED:20250722T164643Z
LAST-MODIFIED:20250722T164643Z
UID:3521-1758376800-1758384000@inkwoodhealing.com
SUMMARY:Shamanic Journey and Drumming Group
DESCRIPTION:Our monthly Shamanic Journey and Drumming group meets on the third Saturday of every month. No experience with shamanism\, journeying\, or drumming is required – just a curious and open heart! \nShamanic journeying is a powerful practice that anyone can learn and use. Working in the spirit realm teaches us true freedom and self-empowerment. There\, we have access to other worlds. We connect with the energy that underlies the physical world. We also receive guidance from our spirit guides and ancestors. Moreover\, we gain the ability to heal ourselves at the deepest level. As Sandra Ingerman says\, journeying gives us access to “information and energies that can help awaken us and restore us to wholeness.” \nShamanic drumming is both a healing art and a catalyst for shamanic journeying. At our gatherings\, we will explore both ways of working with rhythm. Participants are encouraged to bring a drum and/or rattle if they have one. Extra rhythm instruments will be available for those without. \nLocation: The Unitarian Church of Marlboro and Hudson (UCMH)\, 80 Main St.\, Hudson\, MA\, upstairs in the Knight Room. Enter through the side (Church St.) door and come up the stairs.
URL:https://inkwoodhealing.com/event/shamanic-journey-and-drumming-group-4/
LOCATION:The Unitarian Church of Marlboro and Hudson\, 80 Main St.\, Hudson\, MA\, 01749\, United States
CATEGORIES:Shamanic Journey Group
END:VEVENT
BEGIN:VEVENT
DTSTART;TZID=America/New_York:20250926T190000
DTEND;TZID=America/New_York:20250926T210000
DTSTAMP:20260424T080253
CREATED:20250722T164043Z
LAST-MODIFIED:20250722T164848Z
UID:3519-1758913200-1758920400@inkwoodhealing.com
SUMMARY:Playing With Tarot! An Intuitive Tarot Workshop
DESCRIPTION:Join me on the 4th Fridays in January\, March\, May\, July\, September\, and November for a tarot gathering focused on intuitive tarot reading skills. \nWhy are we playing instead of learning tarot? \nBecause playing is fun! Our gatherings focus on intuitive reading. Certain attitudes and perspectives arise when we use the word ‘learn’: right versus wrong ways of doing things\, the need to work hard to study and learn\, the need to prove our skills\, fears of testing\, etc. \nBut telling ourselves that we’re playing instead of learning puts us into a different mindset. Hopefully\, one that is more relaxed and ready for fun. And that makes it easier to access our intuition. Join us and see how fun tarot can be without the rules! \nCost: $5/UCMH Members\, $10 Non-members \nHow to Register: Email me at Cynthia @ inkwoodhealing.com so I can ensure there are enough resources available.
URL:https://inkwoodhealing.com/event/playing-with-tarot-an-intuitive-tarot-workshop/
LOCATION:The Unitarian Church of Marlboro and Hudson\, 80 Main St.\, Hudson\, MA\, 01749\, United States
CATEGORIES:Tarot Workshops
END:VEVENT
END:VCALENDAR