BEGIN:VCALENDAR
VERSION:2.0
PRODID:-// - ECPv6.15.20//NONSGML v1.0//EN
CALSCALE:GREGORIAN
METHOD:PUBLISH
X-ORIGINAL-URL:https://inkwoodhealing.com
X-WR-CALDESC:Events for 
REFRESH-INTERVAL;VALUE=DURATION:PT1H
X-Robots-Tag:noindex
X-PUBLISHED-TTL:PT1H
BEGIN:VTIMEZONE
TZID:America/New_York
BEGIN:DAYLIGHT
TZOFFSETFROM:-0500
TZOFFSETTO:-0400
TZNAME:EDT
DTSTART:20240310T070000
END:DAYLIGHT
BEGIN:STANDARD
TZOFFSETFROM:-0400
TZOFFSETTO:-0500
TZNAME:EST
DTSTART:20241103T060000
END:STANDARD
BEGIN:DAYLIGHT
TZOFFSETFROM:-0500
TZOFFSETTO:-0400
TZNAME:EDT
DTSTART:20250309T070000
END:DAYLIGHT
BEGIN:STANDARD
TZOFFSETFROM:-0400
TZOFFSETTO:-0500
TZNAME:EST
DTSTART:20251102T060000
END:STANDARD
BEGIN:DAYLIGHT
TZOFFSETFROM:-0500
TZOFFSETTO:-0400
TZNAME:EDT
DTSTART:20260308T070000
END:DAYLIGHT
BEGIN:STANDARD
TZOFFSETFROM:-0400
TZOFFSETTO:-0500
TZNAME:EST
DTSTART:20261101T060000
END:STANDARD
END:VTIMEZONE
BEGIN:VEVENT
DTSTART;TZID=America/New_York:20250329T140000
DTEND;TZID=America/New_York:20250329T160000
DTSTAMP:20260424T182113
CREATED:20250207T154145Z
LAST-MODIFIED:20250221T011200Z
UID:2849-1743256800-1743264000@inkwoodhealing.com
SUMMARY:Shamanic Journey and Drumming Group
DESCRIPTION:I am offering a monthly gathering focused on shamanic journeying and drumming\, beginning March 28th. No experience with shamanism\, journeying\, or drumming is necessary – just a curious and open heart! \nShamanic journeying is a powerful practice that anyone can learn and use. Working in the spirit realm teaches us true freedom and self-empowerment. There\, we have access to other worlds. We connect with the energy that underlies the physical world. We also receive guidance from our spirit guides and ancestors. Moreover\, we gain the ability to heal ourselves at the deepest level. As Sandra Ingerman says\, journeying gives us access to “information and energies that can help awaken us and restore us to wholeness.” \nWe will most often meet at the Unitarian Church of Marlboro and Hudson\, located in Hudson\, MA (80 Main St.)\, on the third Saturday of the month from 2 to 4 PM (except our first meeting on March 29). During the summer\, we’ll gather outdoors\, when possible\, in various locations. \nAs we begin\, we’ll focus on learning journey techniques. We will meet our spirit guides and create a sacred garden from which to work. From there\, we will explore group journeying\, drumming for journeying and healing\, divinatory and self-healing journeys\, and much more. On the summer solstice\, we will gather at a fire circle in Lunenburg for a journey ceremony. \nThis is an open group\, and anyone can join any gathering. The program cost is $5 for UCMH Members and $10 for non-members. Join my mailing list for program reminders and updates so you don’t miss a session!
URL:https://inkwoodhealing.com/event/shamanic-journey-and-drumming-group/
LOCATION:The Unitarian Church of Marlboro and Hudson\, 80 Main St.\, Hudson\, MA\, 01749\, United States
CATEGORIES:Shamanic Journey Group
END:VEVENT
END:VCALENDAR