BEGIN:VCALENDAR
VERSION:2.0
PRODID:-// - ECPv6.15.20//NONSGML v1.0//EN
CALSCALE:GREGORIAN
METHOD:PUBLISH
X-ORIGINAL-URL:https://inkwoodhealing.com
X-WR-CALDESC:Events for 
REFRESH-INTERVAL;VALUE=DURATION:PT1H
X-Robots-Tag:noindex
X-PUBLISHED-TTL:PT1H
BEGIN:VTIMEZONE
TZID:America/New_York
BEGIN:DAYLIGHT
TZOFFSETFROM:-0500
TZOFFSETTO:-0400
TZNAME:EDT
DTSTART:20250309T070000
END:DAYLIGHT
BEGIN:STANDARD
TZOFFSETFROM:-0400
TZOFFSETTO:-0500
TZNAME:EST
DTSTART:20251102T060000
END:STANDARD
BEGIN:DAYLIGHT
TZOFFSETFROM:-0500
TZOFFSETTO:-0400
TZNAME:EDT
DTSTART:20260308T070000
END:DAYLIGHT
BEGIN:STANDARD
TZOFFSETFROM:-0400
TZOFFSETTO:-0500
TZNAME:EST
DTSTART:20261101T060000
END:STANDARD
BEGIN:DAYLIGHT
TZOFFSETFROM:-0500
TZOFFSETTO:-0400
TZNAME:EDT
DTSTART:20270314T070000
END:DAYLIGHT
BEGIN:STANDARD
TZOFFSETFROM:-0400
TZOFFSETTO:-0500
TZNAME:EST
DTSTART:20271107T060000
END:STANDARD
END:VTIMEZONE
BEGIN:VEVENT
DTSTART;TZID=America/New_York:20260123T190000
DTEND;TZID=America/New_York:20260123T210000
DTSTAMP:20260424T033714
CREATED:20251003T135929Z
LAST-MODIFIED:20260112T130440Z
UID:3595-1769194800-1769202000@inkwoodhealing.com
SUMMARY:Playing With Tarot! An Intuitive Tarot Workshop
DESCRIPTION:Join me on the 4th Fridays in January\, March\, May\, July\, September\, and November for a tarot gathering focused on intuitive tarot reading skills. \nOur gatherings combine discussions on tarot topics\, reading introspectively for ourselves\, playing with our decks in unconventional ways\, and group readings (a favorite event\, producing some of our most interesting experiences). \nWhy are we playing instead of learning tarot? \nBecause playing is fun! Our gatherings focus on intuitive reading. Certain attitudes and perspectives arise when we use the word ‘learn’: right versus wrong\, the need to study and learn\, the need to prove our skills\, fears of testing\, etc. \nBut telling ourselves that we’re playing instead of learning puts us into a different mindset. Hopefully\, one that is more relaxed and ready for fun. And that makes it easier to access our intuition. Bring your favorite tarot deck and come see how fun tarot can be without the rules! \nIf you’re new(er) to tarot and don’t yet have a deck\, there are extra decks available to borrow. \nCost: $5/UCMH Members\, $10 Non-members \nRegistration: This is a drop-in event; pre-registration is not required.
URL:https://inkwoodhealing.com/event/playing-with-tarot-an-intuitive-tarot-workshop-2/
LOCATION:The Unitarian Church of Marlboro and Hudson\, 80 Main St.\, Hudson\, MA\, 01749\, United States
CATEGORIES:Tarot Workshops
ATTACH;FMTTYPE=image/webp:https://inkwoodhealing.com/wp-content/uploads/2025/10/BT-Pile-of-Cards-cropped-small.webp
END:VEVENT
END:VCALENDAR